BEGIN:VCALENDAR
VERSION:2.0
PRODID:-//USIM CULTURAL CENTRE - ECPv5.10.0//NONSGML v1.0//EN
CALSCALE:GREGORIAN
METHOD:PUBLISH
X-WR-CALNAME:USIM CULTURAL CENTRE
X-ORIGINAL-URL:https://kebudayaan.usim.edu.my
X-WR-CALDESC:Events for USIM CULTURAL CENTRE
BEGIN:VTIMEZONE
TZID:Asia/Kuala_Lumpur
BEGIN:STANDARD
TZOFFSETFROM:+0800
TZOFFSETTO:+0800
TZNAME:+08
DTSTART:20240101T000000
END:STANDARD
END:VTIMEZONE
BEGIN:VEVENT
DTSTART;TZID=Asia/Kuala_Lumpur:20241203T080000
DTEND;TZID=Asia/Kuala_Lumpur:20241203T170000
DTSTAMP:20260424T185321
CREATED:20241127T012456Z
LAST-MODIFIED:20241127T012456Z
UID:7627-1733212800-1733245200@kebudayaan.usim.edu.my
SUMMARY:Majlis Penyampaian Anugerah Pertandingan Video Pendek Kefahaman Islam (VIPKI) 2024
DESCRIPTION:
URL:https://kebudayaan.usim.edu.my/kalendar/majlis-penyampaian-anugerah-pertandingan-video-pendek-kefahaman-islam-vipki-2024/
LOCATION:Hotel Royale Chulan
END:VEVENT
END:VCALENDAR