BEGIN:VCALENDAR
VERSION:2.0
PRODID:-//USIM CULTURAL CENTRE - ECPv5.10.0//NONSGML v1.0//EN
CALSCALE:GREGORIAN
METHOD:PUBLISH
X-WR-CALNAME:USIM CULTURAL CENTRE
X-ORIGINAL-URL:https://kebudayaan.usim.edu.my
X-WR-CALDESC:Events for USIM CULTURAL CENTRE
BEGIN:VTIMEZONE
TZID:Asia/Kuala_Lumpur
BEGIN:STANDARD
TZOFFSETFROM:+0800
TZOFFSETTO:+0800
TZNAME:+08
DTSTART:20240101T000000
END:STANDARD
END:VTIMEZONE
BEGIN:VEVENT
DTSTART;TZID=Asia/Kuala_Lumpur:20241203T080000
DTEND;TZID=Asia/Kuala_Lumpur:20241206T170000
DTSTAMP:20260423T085409
CREATED:20241127T012141Z
LAST-MODIFIED:20241127T012141Z
UID:7625-1733212800-1733504400@kebudayaan.usim.edu.my
SUMMARY:Majlis Konvokesyen Universiti Sains Islam Malaysia ke-22
DESCRIPTION:
URL:https://kebudayaan.usim.edu.my/kalendar/majlis-konvokesyen-universiti-sains-islam-malaysia-ke-22/
LOCATION:Dewan Tuanku Canselor USIM\, Universiti Sains Islam Malaysia\, Bandar Baru Nilai\,\, Nilai\, Negeri Sembilan\, 71800\, Malaysia
END:VEVENT
END:VCALENDAR